BEGIN:VCALENDAR
VERSION:2.0
PRODID:-//PYVOBJECT//NONSGML Version 0.9.9//EN
BEGIN:VTIMEZONE
TZID:CET
BEGIN:STANDARD
DTSTART:20001029T040000
RRULE:FREQ=YEARLY;BYDAY=-1SU;BYMONTH=10
TZNAME:CET
TZOFFSETFROM:+0200
TZOFFSETTO:+0100
END:STANDARD
BEGIN:DAYLIGHT
DTSTART:20000326T030000
RRULE:FREQ=YEARLY;BYDAY=-1SU;BYMONTH=3
TZNAME:CEST
TZOFFSETFROM:+0100
TZOFFSETTO:+0200
END:DAYLIGHT
END:VTIMEZONE
BEGIN:VEVENT
UID:event-5
DTSTART;TZID=CET:20250705T210000
DTEND;TZID=CET:20250705T230000
DESCRIPTION:Abitur 2025 - Abiball und Party Stadthalle - Veranstaltung
DTSTAMP:20260421T111127Z
GEO:
LOCATION:\,  
SUMMARY:Abitur 2025 - Abiball und Party Stadthalle
URL:https://ehemalige-egm.de/events/5/
END:VEVENT
END:VCALENDAR
